BEGIN:VCALENDAR
VERSION:2.0
METHOD:PUBLISH
CALSCALE:GREGORIAN
PRODID:-//WordPress - MECv7.32.0//EN
X-ORIGINAL-URL:https://paroissesanary.fr/
X-WR-CALNAME:Paroisse Saint Nazaire - Sanary-sur-Mer
X-WR-CALDESC:
X-WR-TIMEZONE:Europe/Paris
BEGIN:VTIMEZONE
TZID:Europe/Paris
X-LIC-LOCATION:Europe/Paris
BEGIN:DAYLIGHT
TZOFFSETFROM:+0100
TZOFFSETTO:+0200
TZNAME:CEST
DTSTART:20260329T030000
RRULE:FREQ=YEARLY;BYMONTH=03;BYDAY=-1SU
END:DAYLIGHT
BEGIN:STANDARD
TZOFFSETFROM:+0200
TZOFFSETTO:+0100
TZNAME:CET
DTSTART:20261025T020000
RRULE:FREQ=YEARLY;BYMONTH=10;BYDAY=4SU
END:STANDARD
END:VTIMEZONE
REFRESH-INTERVAL;VALUE=DURATION:PT1H
X-PUBLISHED-TTL:PT1H
X-MS-OLK-FORCEINSPECTOROPEN:TRUE
BEGIN:VEVENT
CLASS:PUBLIC
UID:MEC-5c8e07660e3000f141dda8b83107ed6e@paroissesanary.fr
DTSTART;TZID=Europe/Paris:20260425T081500
DTEND;TZID=Europe/Paris:20260425T084500
DTSTAMP:20260210T142011Z
RRULE:FREQ=WEEKLY;BYDAY=SA
CREATED:20260210
LAST-MODIFIED:20260423
PRIORITY:5
SEQUENCE:1
TRANSP:OPAQUE
SUMMARY:Chapelet médité
DESCRIPTION:
URL:https://paroissesanary.fr/evenement/2153-chapelet-medite-10-02-2026-08-15/
ATTACH;FMTTYPE=image/jpeg:https://paroissesanary.fr/wp-content/uploads/sites/32/2024/12/5704103.jpg
END:VEVENT
BEGIN:VEVENT
CLASS:PUBLIC
UID:MEC-ee188463935a061dee6df8bf449cb882@paroissesanary.fr
DTSTART;TZID=Europe/Paris:20260423T000000
DTEND;TZID=Europe/Paris:20260424T000000
DTSTAMP:20260210T142115Z
RRULE:FREQ=WEEKLY;BYDAY=TH,FR
CREATED:20260210
LAST-MODIFIED:20260423
PRIORITY:5
SEQUENCE:1
TRANSP:OPAQUE
SUMMARY:Adoration perpétuelle
DESCRIPTION:
URL:https://paroissesanary.fr/evenement/2149-adoration-perpetuelle-10-02-2026-08-00/
ATTACH;FMTTYPE=image/jpeg:https://paroissesanary.fr/wp-content/uploads/sites/32/2024/12/e22ikut6jlo.jpg
END:VEVENT
BEGIN:VEVENT
CLASS:PUBLIC
UID:MEC-37db6bb5f1db992df92a919d20757eec@paroissesanary.fr
DTSTART;TZID=Europe/Paris:20260423T191500
DTEND;TZID=Europe/Paris:20260423T200000
DTSTAMP:20260210T142533Z
RRULE:FREQ=WEEKLY;BYDAY=TH
CREATED:20260210
LAST-MODIFIED:20260423
PRIORITY:5
SEQUENCE:1
TRANSP:OPAQUE
SUMMARY:Confessions (hors obsèques)
DESCRIPTION:
URL:https://paroissesanary.fr/evenement/2145-confessions-hors-obseques-10-02-2026-19-15/
ATTACH;FMTTYPE=image/jpeg:https://paroissesanary.fr/wp-content/uploads/sites/32/2024/05/josh-applegate-_tgznxpf9im-unsplash-min-scaled-1.jpg
END:VEVENT
BEGIN:VEVENT
CLASS:PUBLIC
UID:MEC-fd5ac6ce504b74460b93610f39e481f7@paroissesanary.fr
DTSTART;TZID=Europe/Paris:20260425T103000
DTEND;TZID=Europe/Paris:20260425T120000
DTSTAMP:20260210T142619Z
RRULE:FREQ=WEEKLY;BYDAY=SA
CREATED:20260210
LAST-MODIFIED:20260423
PRIORITY:5
SEQUENCE:3
TRANSP:OPAQUE
SUMMARY:Confessions (hors obsèques)
DESCRIPTION:
URL:https://paroissesanary.fr/evenement/2145-confessions-hors-obseques-10-02-2026-10-30/
ATTACH;FMTTYPE=image/jpeg:https://paroissesanary.fr/wp-content/uploads/sites/32/2024/05/josh-applegate-_tgznxpf9im-unsplash-min-scaled-1.jpg
END:VEVENT
BEGIN:VEVENT
CLASS:PUBLIC
UID:MEC-c09f9caf5e08836d4673ccdd69bb041e@paroissesanary.fr
DTSTART;TZID=Europe/Paris:20260426T083000
DTEND;TZID=Europe/Paris:20260426T090000
DTSTAMP:20260210T144231Z
RRULE:FREQ=WEEKLY;BYDAY=SU
CREATED:20260210
LAST-MODIFIED:20260423
PRIORITY:5
SEQUENCE:1
TRANSP:OPAQUE
SUMMARY:Chapelet
DESCRIPTION:
URL:https://paroissesanary.fr/evenement/2145-chapelet-10-02-2026-08-30/
ATTACH;FMTTYPE=image/jpeg:https://paroissesanary.fr/wp-content/uploads/sites/32/2024/12/5704103.jpg
END:VEVENT
BEGIN:VEVENT
CLASS:PUBLIC
UID:MEC-e8d66338fab3727e34a9179ed8804f64@paroissesanary.fr
DTSTART;TZID=Europe/Paris:20260424T091500
DTEND;TZID=Europe/Paris:20260424T100000
DTSTAMP:20260210T141914Z
RRULE:FREQ=WEEKLY;BYDAY=TU,WE,FR
EXDATE:20260218T081500Z
CREATED:20260210
LAST-MODIFIED:20260423
PRIORITY:5
SEQUENCE:4
TRANSP:OPAQUE
SUMMARY:Chapelet
DESCRIPTION:
URL:https://paroissesanary.fr/evenement/2145-chapelet-10-02-2026-09-15/
ATTACH;FMTTYPE=image/jpeg:https://paroissesanary.fr/wp-content/uploads/sites/32/2024/12/5704103.jpg
END:VEVENT
BEGIN:VEVENT
CLASS:PUBLIC
UID:MEC-63154d5661f774fb7d2d11701d466aa2@paroissesanary.fr
DTSTART;TZID=Europe/Paris:20260424T150000
DTEND;TZID=Europe/Paris:20260424T160000
DTSTAMP:20260210T145226Z
RRULE:FREQ=WEEKLY;BYDAY=FR
CREATED:20260210
LAST-MODIFIED:20260423
PRIORITY:5
SEQUENCE:1
TRANSP:OPAQUE
SUMMARY:Heure de la Miséricorde
DESCRIPTION:
URL:https://paroissesanary.fr/evenement/2149-heure-de-la-misericorde-10-02-2026-15-00/
ATTACH;FMTTYPE=image/jpeg:https://paroissesanary.fr/wp-content/uploads/sites/32/2026/02/xv4mllrt6sw.jpg
END:VEVENT
BEGIN:VEVENT
CLASS:PUBLIC
UID:MEC-60a0575ee6ce460e1d86c0e9d281c4f1@paroissesanary.fr
DTSTART;TZID=Europe/Paris:20260424T180000
DTEND;TZID=Europe/Paris:20260424T220000
DTSTAMP:20250923T153926Z
RRULE:FREQ=WEEKLY
EXDATE:20260220T170000Z,20260227T170000Z,20260327T170000Z,20260403T160000Z
CREATED:20250923
LAST-MODIFIED:20260423
PRIORITY:5
SEQUENCE:5
TRANSP:OPAQUE
SUMMARY:Aumônerie des collégiens et lycéens
DESCRIPTION:
URL:https://paroissesanary.fr/evenement/2157-aumonerie-des-collegiens-et-lyceens-26-09-2025-18-00/
ATTACH;FMTTYPE=image/png:https://paroissesanary.fr/wp-content/uploads/sites/32/2025/04/capture-decran-2025-04-27-a-22.37.40.png
END:VEVENT
BEGIN:VEVENT
CLASS:PUBLIC
UID:MEC-967990de5b3eac7b87d49a13c6834978@paroissesanary.fr
DTSTART;TZID=Europe/Paris:20260428T163000
DTEND;TZID=Europe/Paris:20260428T180000
DTSTAMP:20250923T153833Z
RRULE:FREQ=WEEKLY
EXDATE:20260217T153000Z,20260224T153000Z,20260331T143000Z,20260407T143000Z
CREATED:20250923
LAST-MODIFIED:20260423
PRIORITY:5
SEQUENCE:5
TRANSP:OPAQUE
SUMMARY:Catéchisme
DESCRIPTION:
URL:https://paroissesanary.fr/evenement/2162-catechisme-23-09-2025-16-30/
ATTACH;FMTTYPE=image/jpeg:https://paroissesanary.fr/wp-content/uploads/sites/32/2025/06/photo-2025-08-01-15-14-26.jpg
END:VEVENT
BEGIN:VEVENT
CLASS:PUBLIC
UID:MEC-4175f2ebb265d58c6d8877841d016d08@paroissesanary.fr
DTSTART;TZID=Europe/Paris:20260426T074500
DTEND;TZID=Europe/Paris:20260426T083000
DTSTAMP:20260210T142230Z
RRULE:FREQ=WEEKLY;BYDAY=TU,WE,SU
EXDATE:20260414T054500Z,20260415T054500Z
CREATED:20260210
LAST-MODIFIED:20260423
PRIORITY:5
SEQUENCE:2
TRANSP:OPAQUE
SUMMARY:Adoration
DESCRIPTION:
URL:https://paroissesanary.fr/evenement/2145-adoration-10-02-2026-07-45/
ATTACH;FMTTYPE=image/jpeg:https://paroissesanary.fr/wp-content/uploads/sites/32/2024/12/e22ikut6jlo.jpg
END:VEVENT
BEGIN:VEVENT
CLASS:PUBLIC
UID:MEC-b957d47523c4e92a822cc38703a3bcc3@paroissesanary.fr
DTSTART;TZID=Europe/Paris:20260424T100000
DTEND;TZID=Europe/Paris:20260424T120000
DTSTAMP:20260210T142443Z
RRULE:FREQ=WEEKLY;BYDAY=WE,FR
EXDATE:20260415T080000Z,20260422T080000Z
CREATED:20260210
LAST-MODIFIED:20260423
PRIORITY:5
SEQUENCE:5
TRANSP:OPAQUE
SUMMARY:Confessions (hors obsèques)
DESCRIPTION:
URL:https://paroissesanary.fr/evenement/2145-confessions-hors-obseques-10-02-2026-10-00/
ATTACH;FMTTYPE=image/jpeg:https://paroissesanary.fr/wp-content/uploads/sites/32/2024/05/josh-applegate-_tgznxpf9im-unsplash-min-scaled-1.jpg
END:VEVENT
BEGIN:VEVENT
CLASS:PUBLIC
UID:MEC-9d949c3d8baa0f9df6f22c4661946a61@paroissesanary.fr
DTSTART;TZID=Europe/Paris:20260425T183000
DTEND;TZID=Europe/Paris:20260425T193000
DTSTAMP:20260210T143900Z
RRULE:FREQ=WEEKLY;BYDAY=SA
EXDATE:20260328T173000Z,20260404T163000Z
CREATED:20260210
LAST-MODIFIED:20260423
PRIORITY:5
SEQUENCE:5
TRANSP:OPAQUE
SUMMARY:Messe dominicale anticipée
DESCRIPTION:
URL:https://paroissesanary.fr/evenement/2145-messe-dominicale-anticipee-10-02-2026-18-30/
ATTACH;FMTTYPE=image/jpeg:https://paroissesanary.fr/wp-content/uploads/sites/32/2024/05/josh-applegate-8wm67kf7ulw-unsplash-min-scaled-1.jpg
END:VEVENT
BEGIN:VEVENT
CLASS:PUBLIC
UID:MEC-1517c8664be296f0d87d9e5fc54fdd60@paroissesanary.fr
DTSTART;TZID=Europe/Paris:20260426T183000
DTEND;TZID=Europe/Paris:20260426T193000
DTSTAMP:20260210T143803Z
RRULE:FREQ=WEEKLY;BYDAY=SU
EXDATE:20260329T163000Z
CREATED:20260210
LAST-MODIFIED:20260423
PRIORITY:5
SEQUENCE:5
TRANSP:OPAQUE
SUMMARY:Messe dominicale
DESCRIPTION:
URL:https://paroissesanary.fr/evenement/2145-messe-dominicale-10-02-2026-18-30/
ATTACH;FMTTYPE=image/jpeg:https://paroissesanary.fr/wp-content/uploads/sites/32/2024/05/josh-applegate-8wm67kf7ulw-unsplash-min-scaled-1.jpg
END:VEVENT
BEGIN:VEVENT
CLASS:PUBLIC
UID:MEC-4fc848051e4459b8a6afeb210c3664ec@paroissesanary.fr
DTSTART;TZID=Europe/Paris:20260426T103000
DTEND;TZID=Europe/Paris:20260426T120000
DTSTAMP:20260210T143706Z
RRULE:FREQ=WEEKLY;BYDAY=SU
EXDATE:20260329T083000Z,20260405T083000Z
CREATED:20260210
LAST-MODIFIED:20260423
PRIORITY:5
SEQUENCE:7
TRANSP:OPAQUE
SUMMARY:Messe dominicale
DESCRIPTION:
URL:https://paroissesanary.fr/evenement/2145-messe-dominicale-10-02-2026-10-30/
ATTACH;FMTTYPE=image/jpeg:https://paroissesanary.fr/wp-content/uploads/sites/32/2024/05/josh-applegate-8wm67kf7ulw-unsplash-min-scaled-1.jpg
END:VEVENT
BEGIN:VEVENT
CLASS:PUBLIC
UID:MEC-4837ba5cd49c7f03caaa423049e66daf@paroissesanary.fr
DTSTART;TZID=Europe/Paris:20260426T090000
DTEND;TZID=Europe/Paris:20260426T100000
DTSTAMP:20260210T143615Z
RRULE:FREQ=WEEKLY;BYDAY=SU
EXDATE:20260329T070000Z
CREATED:20260210
LAST-MODIFIED:20260423
PRIORITY:5
SEQUENCE:6
TRANSP:OPAQUE
SUMMARY:Messe dominicale
DESCRIPTION:
URL:https://paroissesanary.fr/evenement/2145-messe-dominicale-10-02-2026-09-00/
ATTACH;FMTTYPE=image/jpeg:https://paroissesanary.fr/wp-content/uploads/sites/32/2024/05/josh-applegate-8wm67kf7ulw-unsplash-min-scaled-1.jpg
END:VEVENT
BEGIN:VEVENT
CLASS:PUBLIC
UID:MEC-cbfe5681369338a48e2d1b63998099d6@paroissesanary.fr
DTSTART;TZID=Europe/Paris:20260423T183000
DTEND;TZID=Europe/Paris:20260423T190000
DTSTAMP:20260210T141550Z
RRULE:FREQ=WEEKLY;BYDAY=TH
EXDATE:20260319T173000Z,20260402T163000Z
CREATED:20260210
LAST-MODIFIED:20260423
PRIORITY:5
SEQUENCE:8
TRANSP:OPAQUE
SUMMARY:Messe de semaine
DESCRIPTION:
URL:https://paroissesanary.fr/evenement/2149-messe-de-semaine-12-02-2026-18-30/
ATTACH;FMTTYPE=image/jpeg:https://paroissesanary.fr/wp-content/uploads/sites/32/2024/12/thays-orrico-ryvs1c615ra-unsplash-1-1-scaled.jpg
END:VEVENT
BEGIN:VEVENT
CLASS:PUBLIC
UID:MEC-86098ef82c97fa789a47a8d2e8800794@paroissesanary.fr
DTSTART;TZID=Europe/Paris:20260425T084500
DTEND;TZID=Europe/Paris:20260425T091500
DTSTAMP:20260210T141426Z
RRULE:FREQ=WEEKLY;BYDAY=SA
CREATED:20260210
LAST-MODIFIED:20260423
PRIORITY:5
SEQUENCE:4
TRANSP:OPAQUE
SUMMARY:Messe de semaine
DESCRIPTION:
URL:https://paroissesanary.fr/evenement/2153-messe-de-semaine-10-02-2026-08-45/
ATTACH;FMTTYPE=image/jpeg:https://paroissesanary.fr/wp-content/uploads/sites/32/2024/12/thays-orrico-ryvs1c615ra-unsplash-1-1-scaled.jpg
END:VEVENT
BEGIN:VEVENT
CLASS:PUBLIC
UID:MEC-97250eb3250c1fa40a321076d5be217d@paroissesanary.fr
DTSTART;TZID=Europe/Paris:20260424T084500
DTEND;TZID=Europe/Paris:20260424T091500
DTSTAMP:20260210T141317Z
RRULE:FREQ=WEEKLY;BYDAY=TU,WE,FR
EXDATE:20260218T074500Z,20260403T064500Z
CREATED:20260210
LAST-MODIFIED:20260423
PRIORITY:5
SEQUENCE:8
TRANSP:OPAQUE
SUMMARY:Messe de semaine
DESCRIPTION:
URL:https://paroissesanary.fr/evenement/2145-messe-de-semaine-10-02-2026-08-45/
ATTACH;FMTTYPE=image/jpeg:https://paroissesanary.fr/wp-content/uploads/sites/32/2024/12/thays-orrico-ryvs1c615ra-unsplash-1-1-scaled.jpg
END:VEVENT
END:VCALENDAR
